BEGIN:VCALENDAR
VERSION:2.0
METHOD:PUBLISH
PRODID:-//hacksw/handcal//NONSGML v1.0//EN
BEGIN:VEVENT
DTSTAMP:20260423T045933Z
DTSTART:20220812T140000Z
DTEND:20220828T215900Z
UID:20220812T140000Z-20220828T215900Z-83@www.weinschoeller.at
SUMMARY:Heuriger im Weingarten
DESCRIPTION:Heuriger im Weingarten\n\ntäglich ab 16 Uhr\n\nReservierun
 g wird wärmstens empfohlen!
X-ALT-DESC;FMTTYPE=text/html:<p>Heuriger im Weingarten</p>\n<p>täglich
  ab 16 Uhr</p>\n<p>Reservierung wird wärmstens empfohlen!</p>\n
URL:https://www.weinschoeller.at/events/heuriger-im-weingarten-7/?lang
 =de
ATTACH:https://www.weinschoeller.at/events/heuriger-im-weingarten-7/?l
 ang=de
ATTACH:https://www.weinschoeller.at/wp-content/uploads/2017/12/heurige
 r_featured_image-150x150.jpg
LOCATION:Winzerhaus Hans Schöller\, Wagramerstraße 10\, Wagram ob der 
 Traisen
END:VEVENT
END:VCALENDAR
